BEGIN:VCALENDAR
VERSION:2.0
PRODID:-//Essex Community Development Corporation - ECPv6.15.20//NONSGML v1.0//EN
CALSCALE:GREGORIAN
METHOD:PUBLISH
X-ORIGINAL-URL:https://essexcdc.org
X-WR-CALDESC:Events for Essex Community Development Corporation
REFRESH-INTERVAL;VALUE=DURATION:PT1H
X-Robots-Tag:noindex
X-PUBLISHED-TTL:PT1H
BEGIN:VTIMEZONE
TZID:UTC
BEGIN:STANDARD
TZOFFSETFROM:+0000
TZOFFSETTO:+0000
TZNAME:UTC
DTSTART:20240101T000000
END:STANDARD
END:VTIMEZONE
BEGIN:VEVENT
DTSTART;TZID=UTC:20250619T170000
DTEND;TZID=UTC:20250619T190000
DTSTAMP:20260423T062721
CREATED:20250603T204938Z
LAST-MODIFIED:20250603T204940Z
UID:817-1750352400-1750359600@essexcdc.org
SUMMARY:June Coffee & Conversation
DESCRIPTION:Join Essex Business & Commercial Property Owners\, Operators\, and Community and Non-profit Leaders for our 2025 Coffee & Conversation. This is a FREE NETWORKING EVENT focusing on building connections between Commercial Property Owners\, Business Owners and Operators\, & Community Leaders with an interest in Essex. \n\n\n\nPLEASE NOTE: We have CHANGED OUR DAY OF THE WEEK! Going forward\, Coffee and Conversation will take place on the 3rd THURSDAY of the month. \n\n\n\nJoin us on Thursday\, June 19\, 2025\, 5:00 PM – 7:00 PM at Moxil & Sparta Luxe\, located at 620 Franklin Ave\, Essex MD\, 21221 \n\n\n\nAttendees will enjoy cocktails and treats as we get to know each other and share information about initiatives & projects currently taking place in Essex. \n\n\n\nRSVP by Wednesday\, June 18\, at 5:00 PM. Space is limited\, so don’t wait to sign up! \n\n\n\nContact Nayeli at nayeli.rojas@essexcdc.org or 443-579-7974. \n\n\n\nWE LOOK FORWARD TO SEEING YOU THERE!
URL:https://essexcdc.org/event/june-coffee-conversation/
LOCATION:Maryland
ATTACH;FMTTYPE=image/jpeg:https://essexcdc.org/wp-content/uploads/2025/06/2025.06.19-Coffee-Conversation-HAPPY-HOUR.jpeg
END:VEVENT
END:VCALENDAR