BEGIN:VCALENDAR
VERSION:2.0
PRODID:-//Essex Community Development Corporation - ECPv6.15.20//NONSGML v1.0//EN
CALSCALE:GREGORIAN
METHOD:PUBLISH
X-WR-CALNAME:Essex Community Development Corporation
X-ORIGINAL-URL:https://essexcdc.org
X-WR-CALDESC:Events for Essex Community Development Corporation
REFRESH-INTERVAL;VALUE=DURATION:PT1H
X-Robots-Tag:noindex
X-PUBLISHED-TTL:PT1H
BEGIN:VTIMEZONE
TZID:UTC
BEGIN:STANDARD
TZOFFSETFROM:+0000
TZOFFSETTO:+0000
TZNAME:UTC
DTSTART:20240101T000000
END:STANDARD
END:VTIMEZONE
BEGIN:VEVENT
DTSTART;TZID=UTC:20250312T170000
DTEND;TZID=UTC:20250312T200000
DTSTAMP:20260423T112516
CREATED:20250204T152148Z
LAST-MODIFIED:20250204T154938Z
UID:739-1741798800-1741809600@essexcdc.org
SUMMARY:Dine Out for a Cause - Essex CDC Fundraiser Dinner
DESCRIPTION:On March 12\, from 5-8PM\, at LoonAsea Restaurant\, 10% of your bill will go to Essex Community Development Corporation to support on building a strong\, vibrant\, economically viable Essex!
URL:https://essexcdc.org/event/dine-out-for-a-cause-essex-cdc-fundraiser-dinner/
LOCATION:LoonAsea Restaurant\, 207 Nanticoke Rd.\, Essex\, Maryland\, 21221\, United States
CATEGORIES:Events
ATTACH;FMTTYPE=image/png:https://essexcdc.org/wp-content/uploads/2025/02/2025.03.12-Dine-Out-for-a-Cause.png
END:VEVENT
BEGIN:VEVENT
DTSTART;TZID=UTC:20250320T090000
DTEND;TZID=UTC:20250320T103000
DTSTAMP:20260423T112516
CREATED:20250204T184252Z
LAST-MODIFIED:20250204T215541Z
UID:759-1742461200-1742466600@essexcdc.org
SUMMARY:March Coffee & Conversation
DESCRIPTION:Join Essex Business & Commercial Property Owners\, Operators\, and Community and Non-profit Leaders for our INAUGURAL 2025 Coffee & Conversation. This is a FREE NETWORKING EVENT focusing on building connections between Essex-based business/groups. \n\n\n\nPLEASE NOTE: We have CHANGED OUR DAY OF THE WEEK! Going forward\, Coffee and Conversation will take place on the 3rd THURSDAY of the month. \n\n\n\nJoin us on Thursday\, March 20\, 2025\, 9:00 AM – 10:30 AM at Sandalwood Elementary School\, located at 900 S. Marlyn Ave\, Essex MD\, 21221 \n\n\n\nAttendees will enjoy coffee and treats as we get to know each other and share information about initiatives and projects currently taking place in Essex. \n\n\n\nRSVP by Wednesday\, March 19\, at 5:00 PM. Space is limited\, so don’t wait to sign up. \n\n\n\nContact Nayeli at nayeli.rojas@essexcdc.org or 443-579-7974. \n\n\n\nWE LOOK FORWARD TO SEEING YOU THERE!
URL:https://essexcdc.org/event/march-coffee-conversation-2/
LOCATION:Sandalwood Elementary School\, 900 S. Marlyn Ave.\, Essex\, Maryland\, 21220\, United States
CATEGORIES:Events
ATTACH;FMTTYPE=image/png:https://essexcdc.org/wp-content/uploads/2025/02/Coffee-Conversation-2025.03-1.png
END:VEVENT
BEGIN:VEVENT
DTSTART;TZID=UTC:20250325T180000
DTEND;TZID=UTC:20250325T193000
DTSTAMP:20260423T112516
CREATED:20250218T213109Z
LAST-MODIFIED:20250218T213821Z
UID:769-1742925600-1742931000@essexcdc.org
SUMMARY:SMALL AREA PLAN 11 PUBLIC MEETING
DESCRIPTION:Baltimore County is developing a Small Area Plan for communities in and around White Marsh\, Middle River\, Bowleys Quarters\, Essex\, and Rossville. This plan will identify area-specific recommendations to meet the goals of Master Plan 2030. Join the Baltimore County Department of Planning for a discussion about the future of our communities! \n\n\n\n \n\n\n\nThis Meeting will be located at the CCBC ESSEX Administration Building 1st Floor Lecture Hall 7201 Rossville Blvd.
URL:https://essexcdc.org/event/small-area-plan-11-public-meeting/
LOCATION:CCBC Essex\, 7201 Rossville Blvd\, Baltimore\, Maryland\, 21237\, United States
CATEGORIES:Events
ATTACH;FMTTYPE=application/pdf:https://essexcdc.org/wp-content/uploads/2025/02/Public-Meeting-Flyer.pdf
END:VEVENT
END:VCALENDAR