BEGIN:VCALENDAR
VERSION:2.0
PRODID:-//Essex Community Development Corporation - ECPv6.15.20//NONSGML v1.0//EN
CALSCALE:GREGORIAN
METHOD:PUBLISH
X-ORIGINAL-URL:https://essexcdc.org
X-WR-CALDESC:Events for Essex Community Development Corporation
REFRESH-INTERVAL;VALUE=DURATION:PT1H
X-Robots-Tag:noindex
X-PUBLISHED-TTL:PT1H
BEGIN:VTIMEZONE
TZID:UTC
BEGIN:STANDARD
TZOFFSETFROM:+0000
TZOFFSETTO:+0000
TZNAME:UTC
DTSTART:20240101T000000
END:STANDARD
END:VTIMEZONE
BEGIN:VEVENT
DTSTART;TZID=UTC:20250208T130000
DTEND;TZID=UTC:20250208T160000
DTSTAMP:20260423T131747
CREATED:20250129T144532Z
LAST-MODIFIED:20250204T155508Z
UID:724-1739019600-1739030400@essexcdc.org
SUMMARY:Galentine's Ladies Lunch & Cake Decorating Class
DESCRIPTION:Join us as we celebrate Valentine’s Day with our gals and raise funds for a great cause – Essex CDC! \n\n\n\nEvent includes:A buffet lunch at Buon Appetito Restaurant in Essex. Meal includes house salad\, meatballs Marinara\, Farfalle A La Vodka\, coffee\, tea\, and soft drinks. Cash bar.Cake Decorating Class by Pinkee’s Sweet Treats which includes; 6” round double layer cake (chocolate or vanilla cake); All tools and materials to use during class; Instruction by Pinkee; Cake box to take delicious creation home. \n\n\n\nWe are excited to host this fundraiser for a second year. Contact Chrissy at 443-579-7974 or chrissy.erb@essexcdc.org for more information or to register. Payment required to secure your space.
URL:https://essexcdc.org/event/galentines-ladies-lunch-cake-decorating-class/
LOCATION:Buon Appetito Restaurant\, 405 Mace Avenue\, Essex\, MD\, 21221\, United States
CATEGORIES:Events
ATTACH;FMTTYPE=application/pdf:https://essexcdc.org/wp-content/uploads/2025/01/Galentines-Cake-Decorating-Fundraiser-Flyer.pdf
END:VEVENT
BEGIN:VEVENT
DTSTART;TZID=UTC:20250220T170000
DTEND;TZID=UTC:20250220T190000
DTSTAMP:20260423T131747
CREATED:20250130T153246Z
LAST-MODIFIED:20250130T153248Z
UID:729-1740070800-1740078000@essexcdc.org
SUMMARY:February Coffee & Conversation
DESCRIPTION:Join us and Essex Business & Commercial Property Owners\, Operators\, and Community and Non-profit Leaders for our INAUGURAL 2025 Coffee & Conversation. This is a FREE NETWORKING EVENT focusing on building connections between Essex-based business/groups. \n\n\n\nPLEASE NOTE: We have CHANGED OUR DAY OF THE WEEK! Going forward\, Coffee and Conversation will take place on the 3rd THURSDAY of the month. \n\n\n\nJoin us on:Thursday\, February 20\, 20255:00 PM to 7:00 PM atA Sweeet Village Suites25 Eastern Blvd. Suite 96 – the Essex Gateway Center on the Marie Ave. side \n\n\n\nAttendees will enjoy cocktails and treats as we get to know each other and share information about initiatives & projects currently taking place in Essex. \n\n\n\nRSVP by Wednesday\, February 19 at 5:00 PM. Space is limited\, so don’t wait to sign up!  \n\n\n\nContact Nayeli at nayeli.rojas@essexcdc.org or 443-579-7974. \n\n\n\nWE LOOK FORWARD TO SEEING YOU THERE!!!
URL:https://essexcdc.org/event/february-coffee-conversation/
LOCATION:A Sweeet Village Suites\, 25 Eastern Blvd. Suite 96\, Essex\, Maryland\, 21221\, United States
ATTACH;FMTTYPE=image/png:https://essexcdc.org/wp-content/uploads/2025/01/Coffee-Conversation-2025.02.png
END:VEVENT
END:VCALENDAR