BEGIN:VCALENDAR
VERSION:2.0
PRODID:-//Essex Community Development Corporation - ECPv6.15.20//NONSGML v1.0//EN
CALSCALE:GREGORIAN
METHOD:PUBLISH
X-WR-CALNAME:Essex Community Development Corporation
X-ORIGINAL-URL:https://essexcdc.org
X-WR-CALDESC:Events for Essex Community Development Corporation
REFRESH-INTERVAL;VALUE=DURATION:PT1H
X-Robots-Tag:noindex
X-PUBLISHED-TTL:PT1H
BEGIN:VTIMEZONE
TZID:UTC
BEGIN:STANDARD
TZOFFSETFROM:+0000
TZOFFSETTO:+0000
TZNAME:UTC
DTSTART:20230101T000000
END:STANDARD
END:VTIMEZONE
BEGIN:VEVENT
DTSTART;TZID=UTC:20241115T090000
DTEND;TZID=UTC:20241115T103000
DTSTAMP:20260423T175527
CREATED:20241008T191530Z
LAST-MODIFIED:20241009T001046Z
UID:461-1731661200-1731666600@essexcdc.org
SUMMARY:Coffee & Conversation
DESCRIPTION:Join Essex Business & Commercial Property Owners and Operators\, and Community and Non-profit Leaders for our next Coffee & Conversation. This is a FREE NETWORKING EVENT for Essex-based groups and business support resources to help build community\, share experiences and address concerns about doing business in Essex. \n\n\n\nIn November\, Coffee & Conversation will take place on: \n\n\n\nFriday\, November 15\, 20249:00 AM to 10:30 AM atKenwood High School501 Stemmers Run Rd.Essex\, MD 21221 \n\n\n\nKalyn Alleman\, Career Navigator\, and Andrew Goldbeck\, Community Schools Facilitator\, along with the rest of the team at Kenwood\, will be our hosts. Attendees will enjoy coffee and treats as we get to learn about the incredible CTE programs at Kenwood\, network with each other\, and share information about initiatives and projects currently taking place in Essex. \n\n\n\nRSVP REQUIRED by Wednesday\, November 13 at 5:00 PM. Space is limited\, so don’t wait to sign up. Contact Nayeli Rojas\, Community Engagement Program Coordinator\, at nayeli.rojas@essexcdc.org or 443-579-7974.
URL:https://essexcdc.org/event/461/
LOCATION:Kenwood High School\, 501 Stemmers Run Rd.\, Essex\, Maryland\, 21221\, United States
CATEGORIES:Events
ATTACH;FMTTYPE=image/jpeg:https://essexcdc.org/wp-content/uploads/2024/10/461507173_495899896752377_8731263480026016838_n.jpg
END:VEVENT
END:VCALENDAR