BEGIN:VCALENDAR
VERSION:2.0
PRODID:-//Essex Community Development Corporation - ECPv6.15.20//NONSGML v1.0//EN
CALSCALE:GREGORIAN
METHOD:PUBLISH
X-WR-CALNAME:Essex Community Development Corporation
X-ORIGINAL-URL:https://essexcdc.org
X-WR-CALDESC:Events for Essex Community Development Corporation
REFRESH-INTERVAL;VALUE=DURATION:PT1H
X-Robots-Tag:noindex
X-PUBLISHED-TTL:PT1H
BEGIN:VTIMEZONE
TZID:UTC
BEGIN:STANDARD
TZOFFSETFROM:+0000
TZOFFSETTO:+0000
TZNAME:UTC
DTSTART:20230101T000000
END:STANDARD
END:VTIMEZONE
BEGIN:VEVENT
DTSTART;TZID=UTC:20241004T180000
DTEND;TZID=UTC:20241004T210000
DTSTAMP:20260422T223857
CREATED:20240701T180729Z
LAST-MODIFIED:20241009T001201Z
UID:236-1728064800-1728075600@essexcdc.org
SUMMARY:Essex Outdoor Movie Night: Inside Out 2
DESCRIPTION:Join us for a fun-filled Movie Night featuring “Inside Out 2” at the Essex Senior Center on Friday\, October 4! Gather with friends and family at 600 Dorsey Ave. for an entertaining evening. Experience the emotional journey with Joy\, Sadness\, Anger\, Fear\, and Disgust as they navigate new challenges and adventures. Bring your blankets and enjoy this animated adventure under the stars. Snacks and refreshments will be available. Don’t miss out on this family-friendly event!
URL:https://essexcdc.org/event/movie-night-kung-fu-panda-4/
LOCATION:Essex Senior Center\, 600 Dorsey Ave.\, Essex\, Maryland\, 21220\, United States
CATEGORIES:Events
ATTACH;FMTTYPE=image/jpeg:https://essexcdc.org/wp-content/uploads/2024/07/Essex-Movie-Night.jpg
END:VEVENT
BEGIN:VEVENT
DTSTART;TZID=UTC:20240921T110000
DTEND;TZID=UTC:20240921T170000
DTSTAMP:20260422T223857
CREATED:20240701T181256Z
LAST-MODIFIED:20241009T000606Z
UID:240-1726916400-1726938000@essexcdc.org
SUMMARY:Afro-Caribbean Festival in the Park
DESCRIPTION:Join us for a delightful Picnic in the Park Concert featuring a Steel Drum Band at Sandalwood Elementary School on Saturday\, September 21! Bring your blankets\, lawn chairs\, and picnic baskets to 900 S. Marlyn Ave. and enjoy the rhythmic beats and tropical tunes under the open sky. This family-friendly event promises an afternoon of music\, relaxation\, and community spirit. Don’t miss out on this perfect opportunity to unwind and connect with your neighbors in a beautiful outdoor setting!
URL:https://essexcdc.org/event/picnic-in-the-park-concert-steel-drum-band/
LOCATION:Sandalwood Elementary School\, 900 S. Marlyn Ave.\, Essex\, Maryland\, 21220\, United States
CATEGORIES:Events
ATTACH;FMTTYPE=image/jpeg:https://essexcdc.org/wp-content/uploads/2024/07/Picnic-in-the-Park.jpg
END:VEVENT
BEGIN:VEVENT
DTSTART;TZID=UTC:20240912T100000
DTEND;TZID=UTC:20240912T113000
DTSTAMP:20260422T223857
CREATED:20240829T150618Z
LAST-MODIFIED:20240829T150852Z
UID:422-1726135200-1726140600@essexcdc.org
SUMMARY:Essex CDC Ribbon Cutting Ceremony
DESCRIPTION:Join us as we celebrate the official opening of the Essex Community Development Corporation (Essex CDC). As a vital part of the Essex community\, we are dedicated to fostering lasting change through collaboration with local businesses\, property owners\, residents\, community leaders\, and government representatives. Your presence will be an honor as we embark on this journey towards continued economic growth and development in our beloved Essex area.
URL:https://essexcdc.org/event/essex-cdc-ribbon-cutting-ceremony/
LOCATION:Maryland
END:VEVENT
BEGIN:VEVENT
DTSTART;TZID=UTC:20240906T180000
DTEND;TZID=UTC:20240906T210000
DTSTAMP:20260422T223857
CREATED:20240701T180230Z
LAST-MODIFIED:20241009T001300Z
UID:232-1725645600-1725656400@essexcdc.org
SUMMARY:Movie Night: Kung Fu Panda 4
DESCRIPTION:Join us for a heartwarming Movie Night featuring “Kung Fu Panda 4” at Church of the Harbor on Friday\, September 6! Located at 911 Mace Ave.\, bring your blankets and settle in for a night of laughter and touching moments. Snacks and drinks will be available for purchase to complement your movie experience. Don’t miss this opportunity for family-friendly entertainment and community gathering!
URL:https://essexcdc.org/event/movie-night-inside-out-2/
LOCATION:Church of the Harbor\, 911 Mace Ave\, Essex\, Maryland\, 21221\, United States
CATEGORIES:Events
ATTACH;FMTTYPE=image/jpeg:https://essexcdc.org/wp-content/uploads/2024/07/Essex-Movie-Night.jpg
END:VEVENT
BEGIN:VEVENT
DTSTART;TZID=UTC:20240802T180000
DTEND;TZID=UTC:20240802T210000
DTSTAMP:20260422T223857
CREATED:20240701T174441Z
LAST-MODIFIED:20240701T183801Z
UID:227-1722621600-1722632400@essexcdc.org
SUMMARY:Movie Night: Elemental
DESCRIPTION:Join us at the Essex CDC Movie Night featuring “Elemental” at Mars Estates PAL Center on [Date]. Enjoy a captivating outdoor screening of Pixar’s Animated Movie. Bring your blankets and chairs\, and immerse yourself in inspiring stories of nature’s elements – Earth\, Air\, Water\, and Fire. Indulge in snacks from local vendors as you connect with neighbors and support community initiatives. Don’t miss this enchanting evening under the stars\, where entertainment meets environmental awareness.
URL:https://essexcdc.org/event/movie-night-elemental/
LOCATION:Mars Estates PAL Center\, 1498 East Homberg Avenue\, Essex\, Maryland\, 21220\, United States
CATEGORIES:Events
ATTACH;FMTTYPE=image/jpeg:https://essexcdc.org/wp-content/uploads/2024/07/Essex-Movie-Night.jpg
END:VEVENT
BEGIN:VEVENT
DTSTART;TZID=UTC:20240721T110000
DTEND;TZID=UTC:20240721T170000
DTSTAMP:20260422T223857
CREATED:20240701T173755Z
LAST-MODIFIED:20240701T203800Z
UID:223-1721559600-1721581200@essexcdc.org
SUMMARY:Corn Hole Tournament and Fun Day
DESCRIPTION:Join us for an exciting Essex CDC Fundraiser\, Corn Hole Tournament\, and Fun Day at The Essex Diner parking lot! On July 21st\, gather with friends\, family\, and neighbors for a day of friendly competition and community spirit. Whether you’re a seasoned corn hole player or just looking to have fun\, there’s something for everyone. Enjoy delicious food\, local vendors\, and lively music throughout the day. Your participation supports the Essex Community Development Corporation’s efforts to enhance our community through economic development and cultural enrichment initiatives. Don’t miss out on this opportunity to play\, eat\, and support a great cause!
URL:https://essexcdc.org/event/corn-hole-tournament-and-fun-day/
LOCATION:Essex Diner Parking Lot\, 15 Eastern Blvd\, Essex\, Maryland\, 21221\, United States
CATEGORIES:Events
ATTACH;FMTTYPE=image/jpeg:https://essexcdc.org/wp-content/uploads/2024/07/ECDC-Cornhole.jpg
END:VEVENT
END:VCALENDAR