BEGIN:VCALENDAR
VERSION:2.0
PRODID:-//Essex Community Development Corporation - ECPv6.15.20//NONSGML v1.0//EN
CALSCALE:GREGORIAN
METHOD:PUBLISH
X-WR-CALNAME:Essex Community Development Corporation
X-ORIGINAL-URL:https://essexcdc.org
X-WR-CALDESC:Events for Essex Community Development Corporation
REFRESH-INTERVAL;VALUE=DURATION:PT1H
X-Robots-Tag:noindex
X-PUBLISHED-TTL:PT1H
BEGIN:VTIMEZONE
TZID:UTC
BEGIN:STANDARD
TZOFFSETFROM:+0000
TZOFFSETTO:+0000
TZNAME:UTC
DTSTART:20250101T000000
END:STANDARD
END:VTIMEZONE
BEGIN:VEVENT
DTSTART;TZID=UTC:20260716T090000
DTEND;TZID=UTC:20260716T103000
DTSTAMP:20260422T221138
CREATED:20260408T144222Z
LAST-MODIFIED:20260422T141749Z
UID:1497-1784192400-1784197800@essexcdc.org
SUMMARY:July Coffee and Conversation
DESCRIPTION:☕ July Coffee & Conversation – EssexJoin us for a morning of connection\, collaboration\, and community! \n\n\n\nWhether you’re a commercial property owner\, business owner/operator\, or community leader with an interest in Essex-this is a great opportunity to network and share ideas. \n\n\n\n📅 Thursday\, July 16⏰ 9:00 – 10:30 AM📍 The Comfy Cup25 Eastern Blvd.\, Suite 98B\, Essex\, MD \n\n\n\n✨ Enjoy coffee\, conversation\, and meaningful connections with others invested in Essex’s growth. \n\n\n\n📌 RSVP by Wednesday\, July 15📞 Call/Text: 443-579-7974📧 Email: alison.maxwell@essexcdc.org🔗 https://www.chesapeakechamber.org/event-6550952 \n\n\n\n👉 Be sure to check the Essex CDC Facebook page for any updates!
URL:https://essexcdc.org/event/july-coffee-and-conversation/
LOCATION:The Comfy Cup\, 25 Eastern Blvd\, Suite 98B\, Essex\, Maryland\, 21221\, United States
CATEGORIES:Events
ATTACH;FMTTYPE=image/png:https://essexcdc.org/wp-content/uploads/2026/04/July-2026-AM-Coffee-Conversation-Flyer-1.png
END:VEVENT
BEGIN:VEVENT
DTSTART;TZID=UTC:20260820T170000
DTEND;TZID=UTC:20260820T190000
DTSTAMP:20260422T221138
CREATED:20260408T161159Z
LAST-MODIFIED:20260422T141737Z
UID:1503-1787245200-1787252400@essexcdc.org
SUMMARY:August Coffee and Conversation
DESCRIPTION:🍹 Coffee & Conversation: Happy Hour Edition – Essex \n\n\n\nLet’s connect after hours! Join us for an evening of networking\, conversation\, and community with fellow business owners\, property owners\, and local leaders who care about Essex. \n\n\n\n📅 Thursday\, August 20\, 2026⏰ 5:00 – 7:00 PM📍 Weaver’s Marine Service730 Riverside Dr.\, Essex\, MD \n\n\n\n✨ Enjoy drinks\, great company\, and meaningful connections in a relaxed\, happy hour setting. \n\n\n\n📌 RSVP by Wednesday\, August 19📞 Call/Text: 443-579-7974📧 Email: alison.maxwell@essexcdc.org🔗 https://www.chesapeakechamber.org/event-6550958 \n\n\n\n👉 Be sure to check the Essex CDC Facebook page for any updates!
URL:https://essexcdc.org/event/august-coffee-and-conversation/
LOCATION:Weavers Marine Service\, 730 Riverside Dr.\, Essex\, Maryland\, 21221\, United States
CATEGORIES:Events
ATTACH;FMTTYPE=image/png:https://essexcdc.org/wp-content/uploads/2026/04/August-2026-Happy-Hour-Coffee-Conversation-1.png
ORGANIZER;CN="Essex Community Development Corporation":MAILTO:chrissy.erb@essexcdc.org
END:VEVENT
END:VCALENDAR