BEGIN:VCALENDAR
VERSION:2.0
PRODID:-//Essex Community Development Corporation - ECPv6.15.20//NONSGML v1.0//EN
CALSCALE:GREGORIAN
METHOD:PUBLISH
X-WR-CALNAME:Essex Community Development Corporation
X-ORIGINAL-URL:https://essexcdc.org
X-WR-CALDESC:Events for Essex Community Development Corporation
REFRESH-INTERVAL;VALUE=DURATION:PT1H
X-Robots-Tag:noindex
X-PUBLISHED-TTL:PT1H
BEGIN:VTIMEZONE
TZID:UTC
BEGIN:STANDARD
TZOFFSETFROM:+0000
TZOFFSETTO:+0000
TZNAME:UTC
DTSTART:20250101T000000
END:STANDARD
END:VTIMEZONE
BEGIN:VEVENT
DTSTART;TZID=UTC:20260521T090000
DTEND;TZID=UTC:20260521T103000
DTSTAMP:20260422T221651
CREATED:20260218T164309Z
LAST-MODIFIED:20260422T141811Z
UID:1338-1779354000-1779359400@essexcdc.org
SUMMARY:May Coffee and Conversation
DESCRIPTION:Join us for Coffee & Conversation – May 2026! \n\n\n\nIf you’re a commercial property owner\, business owner\, operator\, or community leader with an interest in Essex\, we’d love to see you there. \n\n\n\n📅 Thursday\, May 21⏰ 9:00 – 10:30 AM📍 Riverside Marine – 600 Riverside Dr\, Essex \n\n\n\nEnjoy coffee\, light refreshments\, and meaningful conversation about our community. \n\n\n\nRSVP by Wednesday\, May 20📞 443-579-7974📧 alison.maxwell@essexcdc.org🔗 www.chesapeakechamber.org/event-6550935 \n\n\n\nLet’s connect\, collaborate\, and strengthen Essex together!
URL:https://essexcdc.org/event/may-coffee-and-conversation/
LOCATION:Riverside Marine\, 600 Riverside Drive\, Essex\, Maryland\, 21221\, United States
CATEGORIES:Events
ATTACH;FMTTYPE=image/png:https://essexcdc.org/wp-content/uploads/2026/02/May-2026-AM-Coffee-Conversation-Flyer-2.png
ORGANIZER;CN="Essex Community Development Corporation":MAILTO:chrissy.erb@essexcdc.org
END:VEVENT
BEGIN:VEVENT
DTSTART;TZID=UTC:20260530T120000
DTEND;TZID=UTC:20260530T160000
DTSTAMP:20260422T221651
CREATED:20260422T140723Z
LAST-MODIFIED:20260422T141803Z
UID:1508-1780142400-1780156800@essexcdc.org
SUMMARY:Crackin' Crab Feast
DESCRIPTION:Join the Chesapeake Gateway Chamber of Commerce & Essex Community Development Corporation (Essex CDC) for an afternoon packed with great food\, live music\, and fun—all for a great cause! \n\n\n\n📅 Saturday\, May 30\, 2026⏰ 12:00 PM – 4:00 PM (rain or shine)📍 Conrad’s Ruth Villa3301 Edwards Lane\, Baltimore\, MD \n\n\n\n🎶 Live music by Swamp Donkey🎟️ Raffles\, wheels & auctions🎁 Now accepting prize donations & giveaways! \n\n\n\n🍽️ Enjoy a delicious menu featuring:Steamed crabs\, pit beef\, pit ham\, pit turkey\, BBQ\, Maryland crab soup\, hot dogs\, salads\, desserts & more! \n\n\n\n🥤 Beverages included: soda\, iced tea\, lemonade\, water\, wine & beer🍹 Signature drinks available for purchase \n\n\n\n💲 $80 per person👥 Tables of 6 available – grab your crew! \n\n\n\n👉 Register now: www.chesapeakechamber.org/event-6622417 \n\n\n\nAll proceeds benefit community & outreach initiatives of the Chamber and Essex CDC ❤️
URL:https://essexcdc.org/event/crackin-crab-feast/
LOCATION:Conrad’s Ruth Villa\, 3301 Edwards Lane\, Middle River\, Maryland\, 21220\, United States
CATEGORIES:Events
ATTACH;FMTTYPE=image/jpeg:https://essexcdc.org/wp-content/uploads/2026/04/Crab-Feast-Flier-v7.jpg
END:VEVENT
BEGIN:VEVENT
DTSTART;TZID=UTC:20260618T170000
DTEND;TZID=UTC:20260618T190000
DTSTAMP:20260422T221651
CREATED:20260311T152027Z
LAST-MODIFIED:20260422T141755Z
UID:1472-1781802000-1781809200@essexcdc.org
SUMMARY:June Coffee and Conversation
DESCRIPTION:☕ Coffee & Conversation Happy Hour – June 2026 🍹 \n\n\n\nJoin us for an evening of Coffee & Conversation hosted in partnership with the Chesapeake Gateway Chamber of Commerce! This happy hour gathering is a great opportunity for commercial property owners\, business owners and operators\, and community leaders who have an interest in Essex to connect and share ideas. \n\n\n\n📅 Thursday\, June 18\, 2026⏰ 5:00 – 7:00 PM📍 Yoga Mouth Collective431 Eastern Blvd.\, Suite 209–213Essex\, MD 21221 \n\n\n\nEnjoy food\, drinks\, conversation\, and community while networking with others who care about the future of Essex. \n\n\n\n📌 RSVP by Wednesday\, June 17📞 Call or Text: 443-579-7974📧 Email: alison.maxwell@essexcdc.org🔗 Visit: www.chesapeakechamber.org/event-6550944 \n\n\n\nPlease check the Essex CDC Facebook page for any event updates. \n\n\n\nWe hope to see you there!
URL:https://essexcdc.org/event/june-coffee-and-conversation/
LOCATION:Yoga Mouth Collective\, 431 Eastern Blvd Suite 209\, Essex\, Maryland\, 21221\, United States
CATEGORIES:Events
ATTACH;FMTTYPE=image/png:https://essexcdc.org/wp-content/uploads/2026/03/June-2026-Happy-Hour-Coffee-Conversation-1.png
END:VEVENT
BEGIN:VEVENT
DTSTART;TZID=UTC:20260716T090000
DTEND;TZID=UTC:20260716T103000
DTSTAMP:20260422T221651
CREATED:20260408T144222Z
LAST-MODIFIED:20260422T141749Z
UID:1497-1784192400-1784197800@essexcdc.org
SUMMARY:July Coffee and Conversation
DESCRIPTION:☕ July Coffee & Conversation – EssexJoin us for a morning of connection\, collaboration\, and community! \n\n\n\nWhether you’re a commercial property owner\, business owner/operator\, or community leader with an interest in Essex-this is a great opportunity to network and share ideas. \n\n\n\n📅 Thursday\, July 16⏰ 9:00 – 10:30 AM📍 The Comfy Cup25 Eastern Blvd.\, Suite 98B\, Essex\, MD \n\n\n\n✨ Enjoy coffee\, conversation\, and meaningful connections with others invested in Essex’s growth. \n\n\n\n📌 RSVP by Wednesday\, July 15📞 Call/Text: 443-579-7974📧 Email: alison.maxwell@essexcdc.org🔗 https://www.chesapeakechamber.org/event-6550952 \n\n\n\n👉 Be sure to check the Essex CDC Facebook page for any updates!
URL:https://essexcdc.org/event/july-coffee-and-conversation/
LOCATION:The Comfy Cup\, 25 Eastern Blvd\, Suite 98B\, Essex\, Maryland\, 21221\, United States
CATEGORIES:Events
ATTACH;FMTTYPE=image/png:https://essexcdc.org/wp-content/uploads/2026/04/July-2026-AM-Coffee-Conversation-Flyer-1.png
END:VEVENT
BEGIN:VEVENT
DTSTART;TZID=UTC:20260820T170000
DTEND;TZID=UTC:20260820T190000
DTSTAMP:20260422T221651
CREATED:20260408T161159Z
LAST-MODIFIED:20260422T141737Z
UID:1503-1787245200-1787252400@essexcdc.org
SUMMARY:August Coffee and Conversation
DESCRIPTION:🍹 Coffee & Conversation: Happy Hour Edition – Essex \n\n\n\nLet’s connect after hours! Join us for an evening of networking\, conversation\, and community with fellow business owners\, property owners\, and local leaders who care about Essex. \n\n\n\n📅 Thursday\, August 20\, 2026⏰ 5:00 – 7:00 PM📍 Weaver’s Marine Service730 Riverside Dr.\, Essex\, MD \n\n\n\n✨ Enjoy drinks\, great company\, and meaningful connections in a relaxed\, happy hour setting. \n\n\n\n📌 RSVP by Wednesday\, August 19📞 Call/Text: 443-579-7974📧 Email: alison.maxwell@essexcdc.org🔗 https://www.chesapeakechamber.org/event-6550958 \n\n\n\n👉 Be sure to check the Essex CDC Facebook page for any updates!
URL:https://essexcdc.org/event/august-coffee-and-conversation/
LOCATION:Weavers Marine Service\, 730 Riverside Dr.\, Essex\, Maryland\, 21221\, United States
CATEGORIES:Events
ATTACH;FMTTYPE=image/png:https://essexcdc.org/wp-content/uploads/2026/04/August-2026-Happy-Hour-Coffee-Conversation-1.png
ORGANIZER;CN="Essex Community Development Corporation":MAILTO:chrissy.erb@essexcdc.org
END:VEVENT
END:VCALENDAR