BEGIN:VCALENDAR
VERSION:2.0
PRODID:-//Essex Community Development Corporation - ECPv6.15.20//NONSGML v1.0//EN
CALSCALE:GREGORIAN
METHOD:PUBLISH
X-WR-CALNAME:Essex Community Development Corporation
X-ORIGINAL-URL:https://essexcdc.org
X-WR-CALDESC:Events for Essex Community Development Corporation
REFRESH-INTERVAL;VALUE=DURATION:PT1H
X-Robots-Tag:noindex
X-PUBLISHED-TTL:PT1H
BEGIN:VTIMEZONE
TZID:UTC
BEGIN:STANDARD
TZOFFSETFROM:+0000
TZOFFSETTO:+0000
TZNAME:UTC
DTSTART:20250101T000000
END:STANDARD
END:VTIMEZONE
BEGIN:VEVENT
DTSTART;TZID=UTC:20260416T170000
DTEND;TZID=UTC:20260416T190000
DTSTAMP:20260422T160212
CREATED:20260218T153310Z
LAST-MODIFIED:20260218T153314Z
UID:1333-1776358800-1776366000@essexcdc.org
SUMMARY:April Coffee and Conversation
DESCRIPTION:☕ Coffee & Conversation – April 2026 Happy Hour \n\n\n\nCommercial property owners\, business owners & operators\, and community leaders with an interest in Essex – this one’s for you! \n\n\n\nJoin us on Thursday\, April 16 from 5-7 PM at Sussex Elementary for an evening of connection\, conversation\, and community building. \n\n\n\n📍 515 S. Woodward Dr.\, Essex\, MD 21221🍴 Food • Drinks • Conversation • Community \n\n\n\nRSVP by Wednesday\, April 15📞 443-579-7974📧 alison.maxwell@essexcdc.org \n\n\n\n🔗 www.chesapeakechamber.org/event-6550929 \n\n\n\nLet’s connect and talk about what’s next for Essex!
URL:https://essexcdc.org/event/april-coffee-and-conversation/
LOCATION:Sussex Elementary School\, 515 S. Woodward Drive\, Essex\, Maryland\, United States
ATTACH;FMTTYPE=image/png:https://essexcdc.org/wp-content/uploads/2026/02/Sussex-Elementary-2026.04.16-Happy-Hour-Coffee-Conversation.png
ORGANIZER;CN="Essex Community Development Corporation":MAILTO:chrissy.erb@essexcdc.org
END:VEVENT
END:VCALENDAR