BEGIN:VCALENDAR
VERSION:2.0
PRODID:-//Essex Community Development Corporation - ECPv6.15.20//NONSGML v1.0//EN
CALSCALE:GREGORIAN
METHOD:PUBLISH
X-ORIGINAL-URL:https://essexcdc.org
X-WR-CALDESC:Events for Essex Community Development Corporation
REFRESH-INTERVAL;VALUE=DURATION:PT1H
X-Robots-Tag:noindex
X-PUBLISHED-TTL:PT1H
BEGIN:VTIMEZONE
TZID:UTC
BEGIN:STANDARD
TZOFFSETFROM:+0000
TZOFFSETTO:+0000
TZNAME:UTC
DTSTART:20250101T000000
END:STANDARD
END:VTIMEZONE
BEGIN:VEVENT
DTSTART;TZID=UTC:20260406T090000
DTEND;TZID=UTC:20260406T120000
DTSTAMP:20260422T154405
CREATED:20260223T155229Z
LAST-MODIFIED:20260317T141710Z
UID:1362-1775466000-1775476800@essexcdc.org
SUMMARY:Essex CDC Eastern Blvd.Trash Clean Up
DESCRIPTION:🧹 Eastern Blvd. Commercial Corridor Trash Pick-Up 🌎 \n\n\n\nJoin us for a morning of service and community-building as we clean up Eastern Boulevard and help prevent trash from polluting the Chesapeake Bay! \n\n\n\n📅 Monday\, April 6\, 2026⏰ 9:00 AM – 12:00 PM📍 Essex Park & Ride (50 Eastern Blvd.\, Essex 21221) \n\n\n\n✔ Earn service hours✔ Meet new friends✔ Coffee & refreshments provided \n\n\n\nLet’s take pride in our community and help make Essex a great place to live\, work & play!(Advance sign-up encouraged\, but not required!)
URL:https://essexcdc.org/event/essex-cdc-eastern-blvd-trash-pick-up/
LOCATION:Essex Park and Ride\, 50 Eastern Blvd\, Essex\, Maryland\, 21221\, United States
ATTACH;FMTTYPE=image/jpeg:https://essexcdc.org/wp-content/uploads/2026/02/2026.04.06-Essex-Trash-Cleanup-3.jpg
ORGANIZER;CN="Essex Community Development Corporation":MAILTO:chrissy.erb@essexcdc.org
END:VEVENT
END:VCALENDAR