BEGIN:VCALENDAR
VERSION:2.0
PRODID:-//Essex Community Development Corporation - ECPv6.15.20//NONSGML v1.0//EN
CALSCALE:GREGORIAN
METHOD:PUBLISH
X-ORIGINAL-URL:https://essexcdc.org
X-WR-CALDESC:Events for Essex Community Development Corporation
REFRESH-INTERVAL;VALUE=DURATION:PT1H
X-Robots-Tag:noindex
X-PUBLISHED-TTL:PT1H
BEGIN:VTIMEZONE
TZID:UTC
BEGIN:STANDARD
TZOFFSETFROM:+0000
TZOFFSETTO:+0000
TZNAME:UTC
DTSTART:20250101T000000
END:STANDARD
END:VTIMEZONE
BEGIN:VEVENT
DTSTART;TZID=UTC:20260318T170000
DTEND;TZID=UTC:20260318T183000
DTSTAMP:20260422T171615
CREATED:20260309T132603Z
LAST-MODIFIED:20260309T132615Z
UID:1467-1773853200-1773858600@essexcdc.org
SUMMARY:Traffic and Pedestrian Safety Study Open House
DESCRIPTION:🚦 Have a Voice in the Future of Eastern Boulevard! 🚶‍♂️🚗 \n\n\n\nThe Essex Community Development Corporation is hosting an Open House to share updates and gather community input on the Eastern Boulevard Traffic and Pedestrian Safety Study. \n\n\n\n📅 Wednesday\, March 18\, 2026⏰ 5:00 – 6:30 PM📍 Essex CDC Office25 Eastern Boulevard\, Suite 98Essex\, MD 21221 \n\n\n\nThis study\, conducted in partnership with a Baltimore County traffic engineering firm\, has been underway for several months. Now it’s time to hear from the community! \n\n\n\nJoin us to:✔️ Review proposed ideas and improvements✔️ Share your experiences traveling along Eastern Boulevard✔️ Provide feedback that will help shape recommendations for Baltimore County and the Maryland State Highway Administration. \n\n\n\nYour voice matters! Whether you live\, work\, walk\, bike\, or drive along Eastern Boulevard\, we want to hear from you. \n\n\n\n📧 Questions? Email beautification@essexcdc.org
URL:https://essexcdc.org/event/traffic-and-pedestrian-safety-study-open-house/
LOCATION:25 Eastern Boulevard\, Suite 98\, Essex\, Maryland 21221\, 25 Eastern Boulevard\, essex\, Maryland\, 21221\, United States
ATTACH;FMTTYPE=image/png:https://essexcdc.org/wp-content/uploads/2026/03/traffic-meeting-flyerseccciones-llenado.pdf.png
ORGANIZER;CN="Essex Community Development Corporation":MAILTO:chrissy.erb@essexcdc.org
END:VEVENT
END:VCALENDAR