BEGIN:VCALENDAR
VERSION:2.0
PRODID:-//Essex Community Development Corporation - ECPv6.15.20//NONSGML v1.0//EN
CALSCALE:GREGORIAN
METHOD:PUBLISH
X-ORIGINAL-URL:https://essexcdc.org
X-WR-CALDESC:Events for Essex Community Development Corporation
REFRESH-INTERVAL;VALUE=DURATION:PT1H
X-Robots-Tag:noindex
X-PUBLISHED-TTL:PT1H
BEGIN:VTIMEZONE
TZID:UTC
BEGIN:STANDARD
TZOFFSETFROM:+0000
TZOFFSETTO:+0000
TZNAME:UTC
DTSTART:20230101T000000
END:STANDARD
END:VTIMEZONE
BEGIN:VEVENT
DTSTART;TZID=UTC:20241019T150000
DTEND;TZID=UTC:20241019T180000
DTSTAMP:20260423T213020
CREATED:20240701T181422Z
LAST-MODIFIED:20241014T200727Z
UID:245-1729350000-1729360800@essexcdc.org
SUMMARY:Essex Latino Festival in the Park
DESCRIPTION:JOIN US AS WE CELEBRATE AND LEARN about many of the Latino cultures that are part of our vibrant Essex community. We will feature food from local restaurants\, area bands and performers\, dancers\, games\, an “around Latin\nAmerica” passport experience\, resource tables and more! ALL ARE WELCOME! NO ENTRANCE FEE!
URL:https://essexcdc.org/event/festival-in-the-park-latin-culture/
LOCATION:Renaissance Park\, 99 Stemmers Run Rd.\, Essex\, Maryland\, 21220\, United States
CATEGORIES:Events
ATTACH;FMTTYPE=image/jpeg:https://essexcdc.org/wp-content/uploads/2024/07/Festival-Latino-En-Essex.jpg
END:VEVENT
END:VCALENDAR