BEGIN:VCALENDAR
VERSION:2.0
PRODID:-//Essex Community Development Corporation - ECPv6.15.20//NONSGML v1.0//EN
CALSCALE:GREGORIAN
METHOD:PUBLISH
X-WR-CALNAME:Essex Community Development Corporation
X-ORIGINAL-URL:https://essexcdc.org
X-WR-CALDESC:Events for Essex Community Development Corporation
REFRESH-INTERVAL;VALUE=DURATION:PT1H
X-Robots-Tag:noindex
X-PUBLISHED-TTL:PT1H
BEGIN:VTIMEZONE
TZID:UTC
BEGIN:STANDARD
TZOFFSETFROM:+0000
TZOFFSETTO:+0000
TZNAME:UTC
DTSTART:20230101T000000
END:STANDARD
END:VTIMEZONE
BEGIN:VEVENT
DTSTART;TZID=UTC:20240912T100000
DTEND;TZID=UTC:20240912T113000
DTSTAMP:20260423T230408
CREATED:20240829T150618Z
LAST-MODIFIED:20240829T150852Z
UID:422-1726135200-1726140600@essexcdc.org
SUMMARY:Essex CDC Ribbon Cutting Ceremony
DESCRIPTION:Join us as we celebrate the official opening of the Essex Community Development Corporation (Essex CDC). As a vital part of the Essex community\, we are dedicated to fostering lasting change through collaboration with local businesses\, property owners\, residents\, community leaders\, and government representatives. Your presence will be an honor as we embark on this journey towards continued economic growth and development in our beloved Essex area.
URL:https://essexcdc.org/event/essex-cdc-ribbon-cutting-ceremony/
LOCATION:Maryland
END:VEVENT
END:VCALENDAR